BEGIN:VCALENDAR
VERSION:2.0
PRODID:-//Dubbo RSL - ECPv6.15.16.1//NONSGML v1.0//EN
CALSCALE:GREGORIAN
METHOD:PUBLISH
X-WR-CALNAME:Dubbo RSL
X-ORIGINAL-URL:https://dubborsl.com.au
X-WR-CALDESC:Events for Dubbo RSL
REFRESH-INTERVAL;VALUE=DURATION:PT1H
X-Robots-Tag:noindex
X-PUBLISHED-TTL:PT1H
BEGIN:VTIMEZONE
TZID:Australia/Sydney
BEGIN:STANDARD
TZOFFSETFROM:+1100
TZOFFSETTO:+1000
TZNAME:AEST
DTSTART:20250405T160000
END:STANDARD
BEGIN:DAYLIGHT
TZOFFSETFROM:+1000
TZOFFSETTO:+1100
TZNAME:AEDT
DTSTART:20251004T160000
END:DAYLIGHT
BEGIN:STANDARD
TZOFFSETFROM:+1100
TZOFFSETTO:+1000
TZNAME:AEST
DTSTART:20260404T160000
END:STANDARD
BEGIN:DAYLIGHT
TZOFFSETFROM:+1000
TZOFFSETTO:+1100
TZNAME:AEDT
DTSTART:20261003T160000
END:DAYLIGHT
BEGIN:STANDARD
TZOFFSETFROM:+1100
TZOFFSETTO:+1000
TZNAME:AEST
DTSTART:20270403T160000
END:STANDARD
BEGIN:DAYLIGHT
TZOFFSETFROM:+1000
TZOFFSETTO:+1100
TZNAME:AEDT
DTSTART:20271002T160000
END:DAYLIGHT
END:VTIMEZONE
BEGIN:VEVENT
DTSTART;TZID=Australia/Sydney:20260407T133000
DTEND;TZID=Australia/Sydney:20260407T143000
DTSTAMP:20260423T014327
CREATED:20260330T224624Z
LAST-MODIFIED:20260330T225838Z
UID:10008862-1775568600-1775572200@dubborsl.com.au
SUMMARY:School Holiday Kids Bingo
DESCRIPTION:TUESDAY 7TH & 14TH APRIL AT 1:30 PM \n$8 ENTRY FEE\, INCLUDE: \nBINGO BOOK\, MARKER\, HALF TIME RAFFLE \n*Books avalable on the day
URL:https://dubborsl.com.au/event/school-holiday-kids-bingo/2026-04-07/
CATEGORIES:Kids Events
ATTACH;FMTTYPE=image/jpeg:https://dubborsl.com.au/wp-content/uploads/2026/03/Kids-bingo-april-scaled.jpg
END:VEVENT
BEGIN:VEVENT
DTSTART;TZID=Australia/Sydney:20260408T080000
DTEND;TZID=Australia/Sydney:20260408T123000
DTSTAMP:20260423T014327
CREATED:20250703T052341Z
LAST-MODIFIED:20250703T052433Z
UID:10007947-1775635200-1775651400@dubborsl.com.au
SUMMARY:Charity Housie
DESCRIPTION:Played every Wednesday from 10am \nBooks on sale from 8am \n18+ event
URL:https://dubborsl.com.au/event/charity-housie/2026-04-08/
END:VEVENT
BEGIN:VEVENT
DTSTART;TZID=Australia/Sydney:20260409T180000
DTEND;TZID=Australia/Sydney:20260409T210000
DTSTAMP:20260423T014327
CREATED:20250703T051749Z
LAST-MODIFIED:20250703T051925Z
UID:10007425-1775757600-1775768400@dubborsl.com.au
SUMMARY:Thursday Raffles
DESCRIPTION:Raffles held every Thursday Night \n40 prizes to be won. Meat trays & club points \nTickets available from 6pm \nDraws commence at 8pm \n 
URL:https://dubborsl.com.au/event/thursday-raffles/2026-04-09/
END:VEVENT
BEGIN:VEVENT
DTSTART;TZID=Australia/Sydney:20260410T083000
DTEND;TZID=Australia/Sydney:20260410T123000
DTSTAMP:20260423T014327
CREATED:20250703T052805Z
LAST-MODIFIED:20250703T052805Z
UID:10008470-1775809800-1775824200@dubborsl.com.au
SUMMARY:Friday Bingo
DESCRIPTION:Bingo held every Friday from 10am \nBooks on sale from 8.30am
URL:https://dubborsl.com.au/event/friday-bingo/2026-04-10/
END:VEVENT
BEGIN:VEVENT
DTSTART;TZID=Australia/Sydney:20260410T180000
DTEND;TZID=Australia/Sydney:20260410T210000
DTSTAMP:20260423T014327
CREATED:20250703T052112Z
LAST-MODIFIED:20250703T052112Z
UID:10007686-1775844000-1775854800@dubborsl.com.au
SUMMARY:Friday Raffles
DESCRIPTION:Raffles held every Friday Night \n40 prizes to be won. Meat trays & club points \nTickets available from 6pm \nDraws commence at 8pm
URL:https://dubborsl.com.au/event/friday-raffles/2026-04-10/
END:VEVENT
END:VCALENDAR