BEGIN:VCALENDAR
VERSION:2.0
PRODID:-//Dubbo RSL - ECPv6.15.16.1//NONSGML v1.0//EN
CALSCALE:GREGORIAN
METHOD:PUBLISH
X-WR-CALNAME:Dubbo RSL
X-ORIGINAL-URL:https://dubborsl.com.au
X-WR-CALDESC:Events for Dubbo RSL
REFRESH-INTERVAL;VALUE=DURATION:PT1H
X-Robots-Tag:noindex
X-PUBLISHED-TTL:PT1H
BEGIN:VTIMEZONE
TZID:Australia/Sydney
BEGIN:STANDARD
TZOFFSETFROM:+1100
TZOFFSETTO:+1000
TZNAME:AEST
DTSTART:20250405T160000
END:STANDARD
BEGIN:DAYLIGHT
TZOFFSETFROM:+1000
TZOFFSETTO:+1100
TZNAME:AEDT
DTSTART:20251004T160000
END:DAYLIGHT
BEGIN:STANDARD
TZOFFSETFROM:+1100
TZOFFSETTO:+1000
TZNAME:AEST
DTSTART:20260404T160000
END:STANDARD
BEGIN:DAYLIGHT
TZOFFSETFROM:+1000
TZOFFSETTO:+1100
TZNAME:AEDT
DTSTART:20261003T160000
END:DAYLIGHT
BEGIN:STANDARD
TZOFFSETFROM:+1100
TZOFFSETTO:+1000
TZNAME:AEST
DTSTART:20270403T160000
END:STANDARD
BEGIN:DAYLIGHT
TZOFFSETFROM:+1000
TZOFFSETTO:+1100
TZNAME:AEDT
DTSTART:20271002T160000
END:DAYLIGHT
END:VTIMEZONE
BEGIN:VEVENT
DTSTART;TZID=Australia/Sydney:20260204T080000
DTEND;TZID=Australia/Sydney:20260204T123000
DTSTAMP:20260423T020843
CREATED:20250703T052341Z
LAST-MODIFIED:20250703T052433Z
UID:10007938-1770192000-1770208200@dubborsl.com.au
SUMMARY:Charity Housie
DESCRIPTION:Played every Wednesday from 10am \nBooks on sale from 8am \n18+ event
URL:https://dubborsl.com.au/event/charity-housie/2026-02-04/
END:VEVENT
BEGIN:VEVENT
DTSTART;TZID=Australia/Sydney:20260205T180000
DTEND;TZID=Australia/Sydney:20260205T210000
DTSTAMP:20260423T020843
CREATED:20250703T051749Z
LAST-MODIFIED:20250703T051925Z
UID:10007416-1770314400-1770325200@dubborsl.com.au
SUMMARY:Thursday Raffles
DESCRIPTION:Raffles held every Thursday Night \n40 prizes to be won. Meat trays & club points \nTickets available from 6pm \nDraws commence at 8pm \n 
URL:https://dubborsl.com.au/event/thursday-raffles/2026-02-05/
END:VEVENT
BEGIN:VEVENT
DTSTART;TZID=Australia/Sydney:20260206T083000
DTEND;TZID=Australia/Sydney:20260206T123000
DTSTAMP:20260423T020843
CREATED:20250703T052805Z
LAST-MODIFIED:20250703T052805Z
UID:10008461-1770366600-1770381000@dubborsl.com.au
SUMMARY:Friday Bingo
DESCRIPTION:Bingo held every Friday from 10am \nBooks on sale from 8.30am
URL:https://dubborsl.com.au/event/friday-bingo/2026-02-06/
END:VEVENT
BEGIN:VEVENT
DTSTART;TZID=Australia/Sydney:20260206T180000
DTEND;TZID=Australia/Sydney:20260206T210000
DTSTAMP:20260423T020843
CREATED:20250703T052112Z
LAST-MODIFIED:20250703T052112Z
UID:10007677-1770400800-1770411600@dubborsl.com.au
SUMMARY:Friday Raffles
DESCRIPTION:Raffles held every Friday Night \n40 prizes to be won. Meat trays & club points \nTickets available from 6pm \nDraws commence at 8pm
URL:https://dubborsl.com.au/event/friday-raffles/2026-02-06/
END:VEVENT
BEGIN:VEVENT
DTSTART;TZID=Australia/Sydney:20260208T143000
DTEND;TZID=Australia/Sydney:20260208T163000
DTSTAMP:20260423T020843
CREATED:20251015T214506Z
LAST-MODIFIED:20251016T044518Z
UID:10008760-1770561000-1770568200@dubborsl.com.au
SUMMARY:Julie Goodwin Your Time Starts Now Tour
DESCRIPTION:Australia’s beloved home cook\, media personality and best-selling author Julie Goodwin is hitting the road in 2026 with her first-ever national live tour: \nThe Julie Goodwin – ‘Your Time Starts Now’ Tour. \nThis two-hour live show is part cooking demonstration\, part heart-to-heart chat\, and 100% Julie. Co-hosted by her longtime friend and award-winning broadcaster\, Rabbit. With their undeniable chemistry honed over years co-hosting breakfast radio together\, the show promises laughs\, tears\, and a whole lot of heart. \nWhether you’re a die-hard MasterChef fan or someone who’s followed Julie throughout her career\, this is an unmissable evening of food\, friendship and fierce honesty. \nYour Time Starts Now is not just a cooking demonstration —it’s an invitation into Julie’s world. A space where food and storytelling collide\, where vulnerability is strength\, and where laughter and tears often sit at the same table. \n\nA live 2 hour theatre experience like no other—warm\, candid\, and laugh-out-loud funny\nJulie cooking on stage\, sharing stories\, techniques and recipes\nHonest reflections on her extraordinary life: from overnight fame on MasterChef to the very real mental health struggles that followed\nReadings from her 2024 memoir ‘Your Time Starts Now’\nConversations with Rabbit that are equal parts hilarious and deeply moving\nAudience Q&A and interaction that makes the event feel like dinner at your best mate’s place—just with a few extra guests
URL:https://dubborsl.com.au/event/julie-goodwin-your-time-starts-now-tour/
CATEGORIES:Live Shows
ATTACH;FMTTYPE=image/jpeg:https://dubborsl.com.au/wp-content/uploads/2025/10/Julie-Goodwin-Landscape-Press-Shot-scaled.jpg
END:VEVENT
BEGIN:VEVENT
DTSTART;TZID=Australia/Sydney:20260211T080000
DTEND;TZID=Australia/Sydney:20260211T123000
DTSTAMP:20260423T020843
CREATED:20250703T052341Z
LAST-MODIFIED:20250703T052433Z
UID:10007939-1770796800-1770813000@dubborsl.com.au
SUMMARY:Charity Housie
DESCRIPTION:Played every Wednesday from 10am \nBooks on sale from 8am \n18+ event
URL:https://dubborsl.com.au/event/charity-housie/2026-02-11/
END:VEVENT
BEGIN:VEVENT
DTSTART;TZID=Australia/Sydney:20260212T180000
DTEND;TZID=Australia/Sydney:20260212T210000
DTSTAMP:20260423T020843
CREATED:20250703T051749Z
LAST-MODIFIED:20250703T051925Z
UID:10007417-1770919200-1770930000@dubborsl.com.au
SUMMARY:Thursday Raffles
DESCRIPTION:Raffles held every Thursday Night \n40 prizes to be won. Meat trays & club points \nTickets available from 6pm \nDraws commence at 8pm \n 
URL:https://dubborsl.com.au/event/thursday-raffles/2026-02-12/
END:VEVENT
BEGIN:VEVENT
DTSTART;TZID=Australia/Sydney:20260213T083000
DTEND;TZID=Australia/Sydney:20260213T123000
DTSTAMP:20260423T020843
CREATED:20250703T052805Z
LAST-MODIFIED:20250703T052805Z
UID:10008462-1770971400-1770985800@dubborsl.com.au
SUMMARY:Friday Bingo
DESCRIPTION:Bingo held every Friday from 10am \nBooks on sale from 8.30am
URL:https://dubborsl.com.au/event/friday-bingo/2026-02-13/
END:VEVENT
BEGIN:VEVENT
DTSTART;TZID=Australia/Sydney:20260213T180000
DTEND;TZID=Australia/Sydney:20260213T210000
DTSTAMP:20260423T020843
CREATED:20250703T052112Z
LAST-MODIFIED:20250703T052112Z
UID:10007678-1771005600-1771016400@dubborsl.com.au
SUMMARY:Friday Raffles
DESCRIPTION:Raffles held every Friday Night \n40 prizes to be won. Meat trays & club points \nTickets available from 6pm \nDraws commence at 8pm
URL:https://dubborsl.com.au/event/friday-raffles/2026-02-13/
END:VEVENT
BEGIN:VEVENT
DTSTART;TZID=Australia/Sydney:20260218T080000
DTEND;TZID=Australia/Sydney:20260218T123000
DTSTAMP:20260423T020843
CREATED:20250703T052341Z
LAST-MODIFIED:20250703T052433Z
UID:10007940-1771401600-1771417800@dubborsl.com.au
SUMMARY:Charity Housie
DESCRIPTION:Played every Wednesday from 10am \nBooks on sale from 8am \n18+ event
URL:https://dubborsl.com.au/event/charity-housie/2026-02-18/
END:VEVENT
BEGIN:VEVENT
DTSTART;TZID=Australia/Sydney:20260219T180000
DTEND;TZID=Australia/Sydney:20260219T210000
DTSTAMP:20260423T020843
CREATED:20250703T051749Z
LAST-MODIFIED:20250703T051925Z
UID:10007418-1771524000-1771534800@dubborsl.com.au
SUMMARY:Thursday Raffles
DESCRIPTION:Raffles held every Thursday Night \n40 prizes to be won. Meat trays & club points \nTickets available from 6pm \nDraws commence at 8pm \n 
URL:https://dubborsl.com.au/event/thursday-raffles/2026-02-19/
END:VEVENT
BEGIN:VEVENT
DTSTART;TZID=Australia/Sydney:20260220T083000
DTEND;TZID=Australia/Sydney:20260220T123000
DTSTAMP:20260423T020843
CREATED:20250703T052805Z
LAST-MODIFIED:20250703T052805Z
UID:10008463-1771576200-1771590600@dubborsl.com.au
SUMMARY:Friday Bingo
DESCRIPTION:Bingo held every Friday from 10am \nBooks on sale from 8.30am
URL:https://dubborsl.com.au/event/friday-bingo/2026-02-20/
END:VEVENT
BEGIN:VEVENT
DTSTART;TZID=Australia/Sydney:20260220T180000
DTEND;TZID=Australia/Sydney:20260220T210000
DTSTAMP:20260423T020843
CREATED:20250703T052112Z
LAST-MODIFIED:20250703T052112Z
UID:10007679-1771610400-1771621200@dubborsl.com.au
SUMMARY:Friday Raffles
DESCRIPTION:Raffles held every Friday Night \n40 prizes to be won. Meat trays & club points \nTickets available from 6pm \nDraws commence at 8pm
URL:https://dubborsl.com.au/event/friday-raffles/2026-02-20/
END:VEVENT
BEGIN:VEVENT
DTSTART;TZID=Australia/Sydney:20260225T080000
DTEND;TZID=Australia/Sydney:20260225T123000
DTSTAMP:20260423T020843
CREATED:20250703T052341Z
LAST-MODIFIED:20250703T052433Z
UID:10007941-1772006400-1772022600@dubborsl.com.au
SUMMARY:Charity Housie
DESCRIPTION:Played every Wednesday from 10am \nBooks on sale from 8am \n18+ event
URL:https://dubborsl.com.au/event/charity-housie/2026-02-25/
END:VEVENT
BEGIN:VEVENT
DTSTART;TZID=Australia/Sydney:20260226T180000
DTEND;TZID=Australia/Sydney:20260226T210000
DTSTAMP:20260423T020843
CREATED:20250703T051749Z
LAST-MODIFIED:20250703T051925Z
UID:10007419-1772128800-1772139600@dubborsl.com.au
SUMMARY:Thursday Raffles
DESCRIPTION:Raffles held every Thursday Night \n40 prizes to be won. Meat trays & club points \nTickets available from 6pm \nDraws commence at 8pm \n 
URL:https://dubborsl.com.au/event/thursday-raffles/2026-02-26/
END:VEVENT
BEGIN:VEVENT
DTSTART;TZID=Australia/Sydney:20260227T083000
DTEND;TZID=Australia/Sydney:20260227T123000
DTSTAMP:20260423T020843
CREATED:20250703T052805Z
LAST-MODIFIED:20250703T052805Z
UID:10008464-1772181000-1772195400@dubborsl.com.au
SUMMARY:Friday Bingo
DESCRIPTION:Bingo held every Friday from 10am \nBooks on sale from 8.30am
URL:https://dubborsl.com.au/event/friday-bingo/2026-02-27/
END:VEVENT
BEGIN:VEVENT
DTSTART;TZID=Australia/Sydney:20260227T180000
DTEND;TZID=Australia/Sydney:20260227T210000
DTSTAMP:20260423T020843
CREATED:20250703T052112Z
LAST-MODIFIED:20250703T052112Z
UID:10007680-1772215200-1772226000@dubborsl.com.au
SUMMARY:Friday Raffles
DESCRIPTION:Raffles held every Friday Night \n40 prizes to be won. Meat trays & club points \nTickets available from 6pm \nDraws commence at 8pm
URL:https://dubborsl.com.au/event/friday-raffles/2026-02-27/
END:VEVENT
END:VCALENDAR